BEGIN:VCALENDAR
VERSION:2.0
PRODID:-//Association of Pediatric Hematology/Oncology Nurses - ECPv6.6.4.2//NONSGML v1.0//EN
CALSCALE:GREGORIAN
METHOD:PUBLISH
X-ORIGINAL-URL:https://www.aphon-dev.tecture.net
X-WR-CALDESC:Events for Association of Pediatric Hematology/Oncology Nurses
REFRESH-INTERVAL;VALUE=DURATION:PT1H
X-Robots-Tag:noindex
X-PUBLISHED-TTL:PT1H
BEGIN:VTIMEZONE
TZID:America/Chicago
BEGIN:DAYLIGHT
TZOFFSETFROM:-0600
TZOFFSETTO:-0500
TZNAME:CDT
DTSTART:20250309T080000
END:DAYLIGHT
BEGIN:STANDARD
TZOFFSETFROM:-0500
TZOFFSETTO:-0600
TZNAME:CST
DTSTART:20251102T070000
END:STANDARD
END:VTIMEZONE
BEGIN:VEVENT
DTSTART;TZID=America/Chicago:20250922T083000
DTEND;TZID=America/Chicago:20250929T113000
DTSTAMP:20260425T163333
CREATED:20250929T184231Z
LAST-MODIFIED:20250929T184403Z
UID:2000222483-1758529800-1759145400@www.aphon-dev.tecture.net
SUMMARY:Chemo/Bio Test15
DESCRIPTION:
URL:https://www.aphon-dev.tecture.net/event/chemo-bio-test15/
END:VEVENT
BEGIN:VEVENT
DTSTART;TZID=America/Chicago:20250925T080000
DTEND;TZID=America/Chicago:20250930T110000
DTSTAMP:20260425T163333
CREATED:20250925T211921Z
LAST-MODIFIED:20250925T212008Z
UID:2000222471-1758787200-1759230000@www.aphon-dev.tecture.net
SUMMARY:Chemo/Bio Test13
DESCRIPTION:
URL:https://www.aphon-dev.tecture.net/event/chemo-bio-test13/
END:VEVENT
BEGIN:VEVENT
DTSTART;TZID=America/Chicago:20250927T063000
DTEND;TZID=America/Chicago:20250930T120000
DTSTAMP:20260425T163333
CREATED:20250926T201217Z
LAST-MODIFIED:20250926T201310Z
UID:2000222478-1758954600-1759233600@www.aphon-dev.tecture.net
SUMMARY:Chemo/Bio Test14
DESCRIPTION:
URL:https://www.aphon-dev.tecture.net/event/chemo-bio-test14/
END:VEVENT
BEGIN:VEVENT
DTSTART;TZID=America/Chicago:20250927T090000
DTEND;TZID=America/Chicago:20250929T230000
DTSTAMP:20260425T163333
CREATED:20250926T153909Z
LAST-MODIFIED:20250926T153909Z
UID:2000222474-1758963600-1759186800@www.aphon-dev.tecture.net
SUMMARY:9-26 Workflow Demonstration
DESCRIPTION:
URL:https://www.aphon-dev.tecture.net/event/9-26-workflow-demonstration/
END:VEVENT
BEGIN:VEVENT
DTSTART;TZID=America/Chicago:20250929T000000
DTEND;TZID=America/Chicago:20251002T000000
DTSTAMP:20260425T163333
CREATED:20251002T195109Z
LAST-MODIFIED:20251002T195140Z
UID:2000222498-1759104000-1759363200@www.aphon-dev.tecture.net
SUMMARY:Chemo/Bio Test17
DESCRIPTION:
URL:https://www.aphon-dev.tecture.net/event/chemo-bio-test17/
END:VEVENT
BEGIN:VEVENT
DTSTART;TZID=America/Chicago:20250929T090000
DTEND;TZID=America/Chicago:20251005T230000
DTSTAMP:20260425T163333
CREATED:20250930T143203Z
LAST-MODIFIED:20250930T143203Z
UID:2000222490-1759136400-1759705200@www.aphon-dev.tecture.net
SUMMARY:9-30 Test Course 1
DESCRIPTION:
URL:https://www.aphon-dev.tecture.net/event/9-30-test-course-1/
END:VEVENT
END:VCALENDAR