BEGIN:VCALENDAR
VERSION:2.0
PRODID:-//Association of Pediatric Hematology/Oncology Nurses - ECPv6.6.4.2//NONSGML v1.0//EN
CALSCALE:GREGORIAN
METHOD:PUBLISH
X-ORIGINAL-URL:https://www.aphon-dev.tecture.net
X-WR-CALDESC:Events for Association of Pediatric Hematology/Oncology Nurses
REFRESH-INTERVAL;VALUE=DURATION:PT1H
X-Robots-Tag:noindex
X-PUBLISHED-TTL:PT1H
BEGIN:VTIMEZONE
TZID:America/Chicago
BEGIN:DAYLIGHT
TZOFFSETFROM:-0600
TZOFFSETTO:-0500
TZNAME:CDT
DTSTART:20250309T080000
END:DAYLIGHT
BEGIN:STANDARD
TZOFFSETFROM:-0500
TZOFFSETTO:-0600
TZNAME:CST
DTSTART:20251102T070000
END:STANDARD
END:VTIMEZONE
BEGIN:VEVENT
DTSTART;TZID=America/Chicago:20251101T090000
DTEND;TZID=America/Chicago:20251103T230000
DTSTAMP:20260425T104015
CREATED:20251030T145624Z
LAST-MODIFIED:20251030T145624Z
UID:2000222557-1761987600-1762210800@www.aphon-dev.tecture.net
SUMMARY:10-30 Term Start Date Test
DESCRIPTION:
URL:https://www.aphon-dev.tecture.net/event/10-30-term-start-date-test/
END:VEVENT
BEGIN:VEVENT
DTSTART;TZID=America/Chicago:20251101T090000
DTEND;TZID=America/Chicago:20251103T230000
DTSTAMP:20260425T104015
CREATED:20251031T165422Z
LAST-MODIFIED:20251031T165422Z
UID:2000222559-1761987600-1762210800@www.aphon-dev.tecture.net
SUMMARY:10-31 Test Course 1
DESCRIPTION:
URL:https://www.aphon-dev.tecture.net/event/10-31-test-course-1/
END:VEVENT
BEGIN:VEVENT
DTSTART;TZID=America/Chicago:20251101T090000
DTEND;TZID=America/Chicago:20251103T230000
DTSTAMP:20260425T104015
CREATED:20251031T205846Z
LAST-MODIFIED:20251031T205846Z
UID:2000222561-1761987600-1762210800@www.aphon-dev.tecture.net
SUMMARY:10-31 Test Course 3
DESCRIPTION:
URL:https://www.aphon-dev.tecture.net/event/10-31-test-course-3/
END:VEVENT
BEGIN:VEVENT
DTSTART;TZID=America/Chicago:20251101T090000
DTEND;TZID=America/Chicago:20251103T230000
DTSTAMP:20260425T104015
CREATED:20251031T210216Z
LAST-MODIFIED:20260213T194026Z
UID:2000222563-1761987600-1762210800@www.aphon-dev.tecture.net
SUMMARY:10-31 Course Test 4
DESCRIPTION:
URL:https://www.aphon-dev.tecture.net/event/10-31-course-test-4/
END:VEVENT
END:VCALENDAR