BEGIN:VCALENDAR
VERSION:2.0
PRODID:-//Association of Pediatric Hematology/Oncology Nurses - ECPv6.6.4.2//NONSGML v1.0//EN
CALSCALE:GREGORIAN
METHOD:PUBLISH
X-ORIGINAL-URL:https://www.aphon-dev.tecture.net
X-WR-CALDESC:Events for Association of Pediatric Hematology/Oncology Nurses
REFRESH-INTERVAL;VALUE=DURATION:PT1H
X-Robots-Tag:noindex
X-PUBLISHED-TTL:PT1H
BEGIN:VTIMEZONE
TZID:America/Chicago
BEGIN:DAYLIGHT
TZOFFSETFROM:-0600
TZOFFSETTO:-0500
TZNAME:CDT
DTSTART:20250309T080000
END:DAYLIGHT
BEGIN:STANDARD
TZOFFSETFROM:-0500
TZOFFSETTO:-0600
TZNAME:CST
DTSTART:20251102T070000
END:STANDARD
END:VTIMEZONE
BEGIN:VEVENT
DTSTART;TZID=America/Chicago:20251103T080000
DTEND;TZID=America/Chicago:20251112T120000
DTSTAMP:20260425T105546
CREATED:20251112T220432Z
LAST-MODIFIED:20251112T221839Z
UID:2000222637-1762156800-1762948800@www.aphon-dev.tecture.net
SUMMARY:TestStepReset
DESCRIPTION:
URL:https://www.aphon-dev.tecture.net/event/teststepreset/
END:VEVENT
BEGIN:VEVENT
DTSTART;TZID=America/Chicago:20251104T100000
DTEND;TZID=America/Chicago:20251105T193000
DTSTAMP:20260425T105546
CREATED:20241101T171630Z
LAST-MODIFIED:20241101T172129Z
UID:2000217558-1762250400-1762371000@www.aphon-dev.tecture.net
SUMMARY:APHON Sponsored Virtual Chemotherapy-Biotherapy Provider Course November 4 and November 5\, 2025
DESCRIPTION:APHON-Sponsored Virtual Chemotherapy and Biotherapy Provider Course First Course Date: 11/04/2025\, 10:00 am-7:30 pm ET Second Course Date: 11/05/2025\, 10:00 am-7:30 pm ET Virtually via Zoom Primary Contact: APHON Education Team\, education@aphon.org Link: TBA Fees: $175 for APHON Members | $250 for Non-members
URL:https://www.aphon-dev.tecture.net/event/aphon-sponsored-virtual-chemotherapy-biotherapy-provider-course-november-4-and-november-5-2025/
LOCATION:APHON Virtual Course
CATEGORIES:APHON and Chapter Events,Chemotherapy/Biotherapy Provider Courses
ORGANIZER;CN="APHON Education Team":MAILTO:education@aphon.org
END:VEVENT
END:VCALENDAR