BEGIN:VCALENDAR
VERSION:2.0
PRODID:-//Association of Pediatric Hematology/Oncology Nurses - ECPv6.6.4.2//NONSGML v1.0//EN
CALSCALE:GREGORIAN
METHOD:PUBLISH
X-ORIGINAL-URL:https://www.aphon-dev.tecture.net
X-WR-CALDESC:Events for Association of Pediatric Hematology/Oncology Nurses
REFRESH-INTERVAL;VALUE=DURATION:PT1H
X-Robots-Tag:noindex
X-PUBLISHED-TTL:PT1H
BEGIN:VTIMEZONE
TZID:America/New_York
BEGIN:DAYLIGHT
TZOFFSETFROM:-0500
TZOFFSETTO:-0400
TZNAME:EDT
DTSTART:20240310T070000
END:DAYLIGHT
BEGIN:STANDARD
TZOFFSETFROM:-0400
TZOFFSETTO:-0500
TZNAME:EST
DTSTART:20241103T060000
END:STANDARD
END:VTIMEZONE
BEGIN:VEVENT
DTSTART;TZID=America/New_York:20240320T080000
DTEND;TZID=America/New_York:20240322T170000
DTSTAMP:20260421T132802
CREATED:20240123T134456Z
LAST-MODIFIED:20240123T134758Z
UID:2000176855-1710921600-1711126800@www.aphon-dev.tecture.net
SUMMARY:8th Annual Innovations in Pediatric Hematology/Oncology Conference
DESCRIPTION:Save the Date!\n8th Annual Innovations in Pediatric Hematology/Oncology Conference \n  \nLearning Services at Children’s Healthcare of Atlanta and the conference planning committee have decided to host this conference as an in-person event with an optional Certified Pediatric Hematology/Oncology Nurse (CPHON) exam prep course. Registration is now open! Deadline date to register will be March 10\, 2024 \nRegister Here: https://cvent.me/0xqBq1 \nCourse Description:\nThe purpose of this conference is to discuss advances in the care of patients with pediatric hematology/oncology diagnoses\, advancement in treatments and survivorship. \nEvent Details:\nCertified Pediatric Hematology/Oncology (CPHON) exam prep course (optional with separate registration) Wednesday\, March 20\, 2024 \nConference:\nThursday\, March 21\, 2024 – 8:00 a.m. – 4:30 p.m.\n(Optional reception 4:45 p.m.- 6:00 p.m.)\nFriday\, March 22\, 2024 – 8:00 a.m. – 3:00 p.m. \nLocation:\nGeorgia Tech Hotel & Conference Center\n800 Spring St NW\,\nAtlanta\, GA 30308
URL:https://www.aphon-dev.tecture.net/event/2000176855/
LOCATION:Georgia Tech Hotel & Conference Center\, 800 Spring Street NW\, Atlanta\, GA\, 30308\, United States
CATEGORIES:Industry Events
END:VEVENT
END:VCALENDAR