BEGIN:VCALENDAR
VERSION:2.0
PRODID:-//Association of Pediatric Hematology/Oncology Nurses - ECPv6.6.4.2//NONSGML v1.0//EN
CALSCALE:GREGORIAN
METHOD:PUBLISH
X-WR-CALNAME:Association of Pediatric Hematology/Oncology Nurses
X-ORIGINAL-URL:https://www.aphon-dev.tecture.net
X-WR-CALDESC:Events for Association of Pediatric Hematology/Oncology Nurses
REFRESH-INTERVAL;VALUE=DURATION:PT1H
X-Robots-Tag:noindex
X-PUBLISHED-TTL:PT1H
BEGIN:VTIMEZONE
TZID:America/Chicago
BEGIN:DAYLIGHT
TZOFFSETFROM:-0600
TZOFFSETTO:-0500
TZNAME:CDT
DTSTART:20250309T080000
END:DAYLIGHT
BEGIN:STANDARD
TZOFFSETFROM:-0500
TZOFFSETTO:-0600
TZNAME:CST
DTSTART:20251102T070000
END:STANDARD
END:VTIMEZONE
BEGIN:VEVENT
DTSTART;TZID=America/Chicago:20251015T080000
DTEND;TZID=America/Chicago:20251022T123000
DTSTAMP:20260425T221437
CREATED:20251022T213748Z
LAST-MODIFIED:20251022T213826Z
UID:2000222547-1760515200-1761136200@www.aphon-dev.tecture.net
SUMMARY:TestCourse - 10/22/2025
DESCRIPTION:
URL:https://www.aphon-dev.tecture.net/event/testcourse-10-22-2025/
END:VEVENT
BEGIN:VEVENT
DTSTART;TZID=America/Chicago:20251013T080000
DTEND;TZID=America/Chicago:20251015T120000
DTSTAMP:20260425T221437
CREATED:20251015T213113Z
LAST-MODIFIED:20251015T213141Z
UID:2000222533-1760342400-1760529600@www.aphon-dev.tecture.net
SUMMARY:TestCourse_Coupon
DESCRIPTION:
URL:https://www.aphon-dev.tecture.net/event/testcourse_coupon/
END:VEVENT
BEGIN:VEVENT
DTSTART;TZID=America/Chicago:20250929T090000
DTEND;TZID=America/Chicago:20251005T230000
DTSTAMP:20260425T221437
CREATED:20250930T143203Z
LAST-MODIFIED:20250930T143203Z
UID:2000222490-1759136400-1759705200@www.aphon-dev.tecture.net
SUMMARY:9-30 Test Course 1
DESCRIPTION:
URL:https://www.aphon-dev.tecture.net/event/9-30-test-course-1/
END:VEVENT
BEGIN:VEVENT
DTSTART;TZID=America/Chicago:20250929T000000
DTEND;TZID=America/Chicago:20251002T000000
DTSTAMP:20260425T221437
CREATED:20251002T195109Z
LAST-MODIFIED:20251002T195140Z
UID:2000222498-1759104000-1759363200@www.aphon-dev.tecture.net
SUMMARY:Chemo/Bio Test17
DESCRIPTION:
URL:https://www.aphon-dev.tecture.net/event/chemo-bio-test17/
END:VEVENT
BEGIN:VEVENT
DTSTART;TZID=America/Chicago:20250927T090000
DTEND;TZID=America/Chicago:20250929T230000
DTSTAMP:20260425T221437
CREATED:20250926T153909Z
LAST-MODIFIED:20250926T153909Z
UID:2000222474-1758963600-1759186800@www.aphon-dev.tecture.net
SUMMARY:9-26 Workflow Demonstration
DESCRIPTION:
URL:https://www.aphon-dev.tecture.net/event/9-26-workflow-demonstration/
END:VEVENT
BEGIN:VEVENT
DTSTART;TZID=America/Chicago:20250927T063000
DTEND;TZID=America/Chicago:20250930T120000
DTSTAMP:20260425T221437
CREATED:20250926T201217Z
LAST-MODIFIED:20250926T201310Z
UID:2000222478-1758954600-1759233600@www.aphon-dev.tecture.net
SUMMARY:Chemo/Bio Test14
DESCRIPTION:
URL:https://www.aphon-dev.tecture.net/event/chemo-bio-test14/
END:VEVENT
BEGIN:VEVENT
DTSTART;TZID=America/Chicago:20250925T080000
DTEND;TZID=America/Chicago:20250930T110000
DTSTAMP:20260425T221437
CREATED:20250925T211921Z
LAST-MODIFIED:20250925T212008Z
UID:2000222471-1758787200-1759230000@www.aphon-dev.tecture.net
SUMMARY:Chemo/Bio Test13
DESCRIPTION:
URL:https://www.aphon-dev.tecture.net/event/chemo-bio-test13/
END:VEVENT
BEGIN:VEVENT
DTSTART;TZID=America/Chicago:20250925T063000
DTEND;TZID=America/Chicago:20250927T123000
DTSTAMP:20260425T221437
CREATED:20250922T164620Z
LAST-MODIFIED:20250922T164721Z
UID:2000222440-1758781800-1758976200@www.aphon-dev.tecture.net
SUMMARY:Chemo/Bio Test9
DESCRIPTION:
URL:https://www.aphon-dev.tecture.net/event/chemo-bio-test9/
END:VEVENT
BEGIN:VEVENT
DTSTART;TZID=America/Chicago:20250923T080000
DTEND;TZID=America/Chicago:20250928T110000
DTSTAMP:20260425T221437
CREATED:20250924T172817Z
LAST-MODIFIED:20250924T172851Z
UID:2000222449-1758614400-1759057200@www.aphon-dev.tecture.net
SUMMARY:Chemo/Bio Test12
DESCRIPTION:
URL:https://www.aphon-dev.tecture.net/event/chemo-bio-test12/
END:VEVENT
BEGIN:VEVENT
DTSTART;TZID=America/Chicago:20250922T083000
DTEND;TZID=America/Chicago:20250929T113000
DTSTAMP:20260425T221437
CREATED:20250929T184231Z
LAST-MODIFIED:20250929T184403Z
UID:2000222483-1758529800-1759145400@www.aphon-dev.tecture.net
SUMMARY:Chemo/Bio Test15
DESCRIPTION:
URL:https://www.aphon-dev.tecture.net/event/chemo-bio-test15/
END:VEVENT
BEGIN:VEVENT
DTSTART;TZID=America/Chicago:20250920T090000
DTEND;TZID=America/Chicago:20250923T103000
DTSTAMP:20260425T221437
CREATED:20250922T205057Z
LAST-MODIFIED:20250922T205246Z
UID:2000222444-1758358800-1758623400@www.aphon-dev.tecture.net
SUMMARY:Chemo/Bio Test10
DESCRIPTION:
URL:https://www.aphon-dev.tecture.net/event/chemo-bio-test10/
END:VEVENT
BEGIN:VEVENT
DTSTART;TZID=America/Chicago:20250918T080000
DTEND;TZID=America/Chicago:20250920T113000
DTSTAMP:20260425T221437
CREATED:20250915T183737Z
LAST-MODIFIED:20250915T183911Z
UID:2000222352-1758182400-1758367800@www.aphon-dev.tecture.net
SUMMARY:Group Test5
DESCRIPTION:
URL:https://www.aphon-dev.tecture.net/event/group-test5/
END:VEVENT
BEGIN:VEVENT
DTSTART;TZID=America/Chicago:20250915T090000
DTEND;TZID=America/Chicago:20250921T230000
DTSTAMP:20260425T221437
CREATED:20250918T134410Z
LAST-MODIFIED:20250918T134410Z
UID:2000222404-1757926800-1758495600@www.aphon-dev.tecture.net
SUMMARY:9-18 Term Role Test
DESCRIPTION:
URL:https://www.aphon-dev.tecture.net/event/9-18-term-role-test/
END:VEVENT
BEGIN:VEVENT
DTSTART;TZID=America/Chicago:20250915T090000
DTEND;TZID=America/Chicago:20250920T230000
DTSTAMP:20260425T221437
CREATED:20250919T175658Z
LAST-MODIFIED:20250919T175658Z
UID:2000222430-1757926800-1758409200@www.aphon-dev.tecture.net
SUMMARY:9-19 Upgraded Course
DESCRIPTION:
URL:https://www.aphon-dev.tecture.net/event/9-19-upgraded-course/
END:VEVENT
BEGIN:VEVENT
DTSTART;TZID=America/Chicago:20250915T090000
DTEND;TZID=America/Chicago:20250920T230000
DTSTAMP:20260425T221437
CREATED:20250918T171920Z
LAST-MODIFIED:20250918T214601Z
UID:2000222408-1757926800-1758409200@www.aphon-dev.tecture.net
SUMMARY:9-18 Coruse 101
DESCRIPTION:
URL:https://www.aphon-dev.tecture.net/event/9-18-coruse-101/
END:VEVENT
BEGIN:VEVENT
DTSTART;TZID=America/Chicago:20250915T090000
DTEND;TZID=America/Chicago:20250920T230000
DTSTAMP:20260425T221437
CREATED:20250918T140352Z
LAST-MODIFIED:20250918T140352Z
UID:2000222406-1757926800-1758409200@www.aphon-dev.tecture.net
SUMMARY:9-18 Term Role Test 2
DESCRIPTION:
URL:https://www.aphon-dev.tecture.net/event/9-18-term-role-test-2/
END:VEVENT
BEGIN:VEVENT
DTSTART;TZID=America/Chicago:20250915T090000
DTEND;TZID=America/Chicago:20250920T230000
DTSTAMP:20260425T221437
CREATED:20250912T182604Z
LAST-MODIFIED:20250912T182604Z
UID:2000222323-1757926800-1758409200@www.aphon-dev.tecture.net
SUMMARY:9-12 Course Test
DESCRIPTION:
URL:https://www.aphon-dev.tecture.net/event/9-12-course-test/
END:VEVENT
BEGIN:VEVENT
DTSTART;TZID=America/Chicago:20250915T090000
DTEND;TZID=America/Chicago:20250920T230000
DTSTAMP:20260425T221437
CREATED:20250911T154826Z
LAST-MODIFIED:20250911T215400Z
UID:2000222307-1757926800-1758409200@www.aphon-dev.tecture.net
SUMMARY:9-11 Course Test
DESCRIPTION:
URL:https://www.aphon-dev.tecture.net/event/9-11-course-test/
END:VEVENT
BEGIN:VEVENT
DTSTART;TZID=America/Chicago:20250915T090000
DTEND;TZID=America/Chicago:20250917T230000
DTSTAMP:20260425T221437
CREATED:20250915T220926Z
LAST-MODIFIED:20250915T220926Z
UID:2000222370-1757926800-1758150000@www.aphon-dev.tecture.net
SUMMARY:9-15 Public Event
DESCRIPTION:
URL:https://www.aphon-dev.tecture.net/event/9-15-public-event/
END:VEVENT
BEGIN:VEVENT
DTSTART;TZID=America/Chicago:20250915T090000
DTEND;TZID=America/Chicago:20250917T230000
DTSTAMP:20260425T221437
CREATED:20250915T214134Z
LAST-MODIFIED:20250915T214134Z
UID:2000222365-1757926800-1758150000@www.aphon-dev.tecture.net
SUMMARY:9-15 Event Dates Test
DESCRIPTION:
URL:https://www.aphon-dev.tecture.net/event/9-15-event-dates-test/
END:VEVENT
BEGIN:VEVENT
DTSTART;TZID=America/Chicago:20250915T080000
DTEND;TZID=America/Chicago:20250920T113000
DTSTAMP:20260425T221437
CREATED:20250918T180639Z
LAST-MODIFIED:20250918T193701Z
UID:2000222410-1757923200-1758367800@www.aphon-dev.tecture.net
SUMMARY:Chemo/Bio Test8
DESCRIPTION:
URL:https://www.aphon-dev.tecture.net/event/chemo-bio-test8/
END:VEVENT
BEGIN:VEVENT
DTSTART;TZID=America/Chicago:20250915T060000
DTEND;TZID=America/Chicago:20250919T123000
DTSTAMP:20260425T221437
CREATED:20250915T145531Z
LAST-MODIFIED:20250915T145603Z
UID:2000222330-1757916000-1758285000@www.aphon-dev.tecture.net
SUMMARY:Group Test4
DESCRIPTION:
URL:https://www.aphon-dev.tecture.net/event/group-test4/
END:VEVENT
BEGIN:VEVENT
DTSTART;TZID=America/Chicago:20250915T060000
DTEND;TZID=America/Chicago:20250917T123000
DTSTAMP:20260425T221437
CREATED:20250915T191852Z
LAST-MODIFIED:20250915T191921Z
UID:2000222355-1757916000-1758112200@www.aphon-dev.tecture.net
SUMMARY:Group Test6
DESCRIPTION:
URL:https://www.aphon-dev.tecture.net/event/group-test6/
END:VEVENT
BEGIN:VEVENT
DTSTART;TZID=America/Chicago:20250912T091000
DTEND;TZID=America/Chicago:20250915T111200
DTSTAMP:20260425T221437
CREATED:20250912T141722Z
LAST-MODIFIED:20250912T141800Z
UID:2000222315-1757668200-1757934720@www.aphon-dev.tecture.net
SUMMARY:Group Test1
DESCRIPTION:
URL:https://www.aphon-dev.tecture.net/event/group-test1/
END:VEVENT
BEGIN:VEVENT
DTSTART;TZID=America/Chicago:20250912T062300
DTEND;TZID=America/Chicago:20250915T122500
DTSTAMP:20260425T221437
CREATED:20250912T180938Z
LAST-MODIFIED:20250912T185637Z
UID:2000222321-1757658180-1757939100@www.aphon-dev.tecture.net
SUMMARY:Group Test2
DESCRIPTION:
URL:https://www.aphon-dev.tecture.net/event/group-test2/
END:VEVENT
BEGIN:VEVENT
DTSTART;TZID=America/Chicago:20250911T110200
DTEND;TZID=America/Chicago:20250916T092500
DTSTAMP:20260425T221437
CREATED:20250911T143629Z
LAST-MODIFIED:20250911T143743Z
UID:2000222287-1757588520-1758014700@www.aphon-dev.tecture.net
SUMMARY:Chemo/Bio Test28
DESCRIPTION:
URL:https://www.aphon-dev.tecture.net/event/chemo-bio-test28/
END:VEVENT
BEGIN:VEVENT
DTSTART;TZID=America/Chicago:20250911T090000
DTEND;TZID=America/Chicago:20250915T122000
DTSTAMP:20260425T221437
CREATED:20250911T164452Z
LAST-MODIFIED:20250911T164547Z
UID:2000222309-1757581200-1757938800@www.aphon-dev.tecture.net
SUMMARY:2025 - Chemo/Bio Provider
DESCRIPTION:
URL:https://www.aphon-dev.tecture.net/event/2025-chemo-bio-provider/
END:VEVENT
BEGIN:VEVENT
DTSTART;TZID=America/Chicago:20250910T092300
DTEND;TZID=America/Chicago:20250913T125000
DTSTAMP:20260425T221437
CREATED:20250910T194950Z
LAST-MODIFIED:20250910T195053Z
UID:2000222183-1757496180-1757767800@www.aphon-dev.tecture.net
SUMMARY:Chemo/Bio Test22
DESCRIPTION:
URL:https://www.aphon-dev.tecture.net/event/chemo-bio-test22/
END:VEVENT
BEGIN:VEVENT
DTSTART;TZID=America/Chicago:20250910T020600
DTEND;TZID=America/Chicago:20250915T101200
DTSTAMP:20260425T221437
CREATED:20250910T221618Z
LAST-MODIFIED:20250910T221809Z
UID:2000222272-1757469960-1757931120@www.aphon-dev.tecture.net
SUMMARY:Chemo/Bio Test25
DESCRIPTION:
URL:https://www.aphon-dev.tecture.net/event/chemo-bio-test25/
END:VEVENT
BEGIN:VEVENT
DTSTART;TZID=America/Chicago:20250901T070000
DTEND;TZID=America/Chicago:20250902T080000
DTSTAMP:20260425T221437
CREATED:20250912T220258Z
LAST-MODIFIED:20250912T221808Z
UID:2000222326-1756710000-1756800000@www.aphon-dev.tecture.net
SUMMARY:Group Test3
DESCRIPTION:
URL:https://www.aphon-dev.tecture.net/event/group-test3/
END:VEVENT
END:VCALENDAR