BEGIN:VCALENDAR
VERSION:2.0
PRODID:-//Association of Pediatric Hematology/Oncology Nurses - ECPv6.6.4.2//NONSGML v1.0//EN
CALSCALE:GREGORIAN
METHOD:PUBLISH
X-WR-CALNAME:Association of Pediatric Hematology/Oncology Nurses
X-ORIGINAL-URL:https://www.aphon-dev.tecture.net
X-WR-CALDESC:Events for Association of Pediatric Hematology/Oncology Nurses
REFRESH-INTERVAL;VALUE=DURATION:PT1H
X-Robots-Tag:noindex
X-PUBLISHED-TTL:PT1H
BEGIN:VTIMEZONE
TZID:America/Chicago
BEGIN:DAYLIGHT
TZOFFSETFROM:-0600
TZOFFSETTO:-0500
TZNAME:CDT
DTSTART:20240310T080000
END:DAYLIGHT
BEGIN:STANDARD
TZOFFSETFROM:-0500
TZOFFSETTO:-0600
TZNAME:CST
DTSTART:20241103T070000
END:STANDARD
BEGIN:DAYLIGHT
TZOFFSETFROM:-0600
TZOFFSETTO:-0500
TZNAME:CDT
DTSTART:20250309T080000
END:DAYLIGHT
BEGIN:STANDARD
TZOFFSETFROM:-0500
TZOFFSETTO:-0600
TZNAME:CST
DTSTART:20251102T070000
END:STANDARD
TZID:America/New_York
BEGIN:DAYLIGHT
TZOFFSETFROM:-0500
TZOFFSETTO:-0400
TZNAME:EDT
DTSTART:20240310T070000
END:DAYLIGHT
BEGIN:STANDARD
TZOFFSETFROM:-0400
TZOFFSETTO:-0500
TZNAME:EST
DTSTART:20241103T060000
END:STANDARD
BEGIN:DAYLIGHT
TZOFFSETFROM:-0500
TZOFFSETTO:-0400
TZNAME:EDT
DTSTART:20250309T070000
END:DAYLIGHT
BEGIN:STANDARD
TZOFFSETFROM:-0400
TZOFFSETTO:-0500
TZNAME:EST
DTSTART:20251102T060000
END:STANDARD
TZID:America/Los_Angeles
BEGIN:DAYLIGHT
TZOFFSETFROM:-0800
TZOFFSETTO:-0700
TZNAME:PDT
DTSTART:20240310T100000
END:DAYLIGHT
BEGIN:STANDARD
TZOFFSETFROM:-0700
TZOFFSETTO:-0800
TZNAME:PST
DTSTART:20241103T090000
END:STANDARD
END:VTIMEZONE
BEGIN:VEVENT
DTSTART;TZID=America/Chicago:20250915T060000
DTEND;TZID=America/Chicago:20250917T123000
DTSTAMP:20260425T182713
CREATED:20250915T191852Z
LAST-MODIFIED:20250915T191921Z
UID:2000222355-1757916000-1758112200@www.aphon-dev.tecture.net
SUMMARY:Group Test6
DESCRIPTION:
URL:https://www.aphon-dev.tecture.net/event/group-test6/
END:VEVENT
BEGIN:VEVENT
DTSTART;TZID=America/Chicago:20250912T091000
DTEND;TZID=America/Chicago:20250915T111200
DTSTAMP:20260425T182713
CREATED:20250912T141722Z
LAST-MODIFIED:20250912T141800Z
UID:2000222315-1757668200-1757934720@www.aphon-dev.tecture.net
SUMMARY:Group Test1
DESCRIPTION:
URL:https://www.aphon-dev.tecture.net/event/group-test1/
END:VEVENT
BEGIN:VEVENT
DTSTART;TZID=America/Chicago:20250912T062300
DTEND;TZID=America/Chicago:20250915T122500
DTSTAMP:20260425T182713
CREATED:20250912T180938Z
LAST-MODIFIED:20250912T185637Z
UID:2000222321-1757658180-1757939100@www.aphon-dev.tecture.net
SUMMARY:Group Test2
DESCRIPTION:
URL:https://www.aphon-dev.tecture.net/event/group-test2/
END:VEVENT
BEGIN:VEVENT
DTSTART;TZID=America/Chicago:20250911T110200
DTEND;TZID=America/Chicago:20250916T092500
DTSTAMP:20260425T182713
CREATED:20250911T143629Z
LAST-MODIFIED:20250911T143743Z
UID:2000222287-1757588520-1758014700@www.aphon-dev.tecture.net
SUMMARY:Chemo/Bio Test28
DESCRIPTION:
URL:https://www.aphon-dev.tecture.net/event/chemo-bio-test28/
END:VEVENT
BEGIN:VEVENT
DTSTART;TZID=America/Chicago:20250911T090000
DTEND;TZID=America/Chicago:20250915T122000
DTSTAMP:20260425T182713
CREATED:20250911T164452Z
LAST-MODIFIED:20250911T164547Z
UID:2000222309-1757581200-1757938800@www.aphon-dev.tecture.net
SUMMARY:2025 - Chemo/Bio Provider
DESCRIPTION:
URL:https://www.aphon-dev.tecture.net/event/2025-chemo-bio-provider/
END:VEVENT
BEGIN:VEVENT
DTSTART;TZID=America/Chicago:20250910T092300
DTEND;TZID=America/Chicago:20250913T125000
DTSTAMP:20260425T182713
CREATED:20250910T194950Z
LAST-MODIFIED:20250910T195053Z
UID:2000222183-1757496180-1757767800@www.aphon-dev.tecture.net
SUMMARY:Chemo/Bio Test22
DESCRIPTION:
URL:https://www.aphon-dev.tecture.net/event/chemo-bio-test22/
END:VEVENT
BEGIN:VEVENT
DTSTART;TZID=America/Chicago:20250910T020600
DTEND;TZID=America/Chicago:20250915T101200
DTSTAMP:20260425T182713
CREATED:20250910T221618Z
LAST-MODIFIED:20250910T221809Z
UID:2000222272-1757469960-1757931120@www.aphon-dev.tecture.net
SUMMARY:Chemo/Bio Test25
DESCRIPTION:
URL:https://www.aphon-dev.tecture.net/event/chemo-bio-test25/
END:VEVENT
BEGIN:VEVENT
DTSTART;TZID=America/Chicago:20250901T070000
DTEND;TZID=America/Chicago:20250902T080000
DTSTAMP:20260425T182713
CREATED:20250912T220258Z
LAST-MODIFIED:20250912T221808Z
UID:2000222326-1756710000-1756800000@www.aphon-dev.tecture.net
SUMMARY:Group Test3
DESCRIPTION:
URL:https://www.aphon-dev.tecture.net/event/group-test3/
END:VEVENT
BEGIN:VEVENT
DTSTART;TZID=America/Chicago:20250730T100000
DTEND;TZID=America/Chicago:20250731T193000
DTSTAMP:20260425T182713
CREATED:20241101T165408Z
LAST-MODIFIED:20241101T165410Z
UID:2000217549-1753869600-1753990200@www.aphon-dev.tecture.net
SUMMARY:APHON Sponsored Virtual Chemotherapy-Biotherapy Provider Course July 30 and July 31\, 2025
DESCRIPTION:APHON-Sponsored Virtual Chemotherapy and Biotherapy Provider Course First Course Date: 07/30/2025\, 10:00 am-7:30 pm ET Second Course Date: 07/31/2025\, 10:00 am-7:30 pm ET Virtually via Zoom Primary Contact: APHON Education Team\, education@aphon.org Link: TBA Fees: $175 for APHON Members | $250 for Non-members
URL:https://www.aphon-dev.tecture.net/event/aphon-sponsored-virtual-chemotherapy-biotherapy-provider-course-july-30-and-july-31-2025/
LOCATION:APHON Virtual Course
CATEGORIES:APHON and Chapter Events,Chemotherapy/Biotherapy Provider Courses
ORGANIZER;CN="APHON Education Team":MAILTO:education@aphon.org
END:VEVENT
BEGIN:VEVENT
DTSTART;TZID=America/Chicago:20250507T100000
DTEND;TZID=America/Chicago:20250508T193000
DTSTAMP:20260425T182713
CREATED:20241101T164226Z
LAST-MODIFIED:20241101T164229Z
UID:2000217546-1746612000-1746732600@www.aphon-dev.tecture.net
SUMMARY:APHON Sponsored Virtual Chemotherapy-Biotherapy Provider Course May 7 and May 8\, 2025
DESCRIPTION:APHON-Sponsored Virtual Chemotherapy and Biotherapy Provider Course First Course Date: 05/07/2025\, 10:00 am-7:30 pm ET Second Course Date: 05/08/2025\, 10:00 am-7:30 pm ET Virtually via Zoom Primary Contact: APHON Education Team\, education@aphon.org Link: TBA Fees: $175 for APHON Members | $250 for Non-members
URL:https://www.aphon-dev.tecture.net/event/aphon-sponsored-virtual-chemotherapy-biotherapy-provider-course-may-7-and-may-8-2025/
LOCATION:APHON Virtual Course
CATEGORIES:APHON and Chapter Events,Chemotherapy/Biotherapy Provider Courses
ORGANIZER;CN="APHON Education Team":MAILTO:education@aphon.org
END:VEVENT
BEGIN:VEVENT
DTSTART;TZID=America/Chicago:20250502T080000
DTEND;TZID=America/Chicago:20250502T170000
DTSTAMP:20260425T182713
CREATED:20241122T161136Z
LAST-MODIFIED:20241122T161138Z
UID:2000220104-1746172800-1746205200@www.aphon-dev.tecture.net
SUMMARY:APHON 8th Regional Conference
DESCRIPTION:Looking Ahead to the Future of APHON Nursing:* Fertility and Cancer Treatment*DEI*Blinatumumab*Gene Therapy*Wellness*Patient PanelANCC Nursing Contact Hours Awarded. Breakfast\, Lunch and Snacks will be provided
URL:https://www.aphon-dev.tecture.net/event/aphon-8th-regional-conference/
LOCATION:Nemours Children’s Hospital\, 1600 Rockland Road\, Wilmington\, Delaware\, 19803\, United States
END:VEVENT
BEGIN:VEVENT
DTSTART;TZID=America/New_York:20250306T103000
DTEND;TZID=America/New_York:20250306T180000
DTSTAMP:20260425T182713
CREATED:20241101T180150Z
LAST-MODIFIED:20241101T180255Z
UID:2000217563-1741257000-1741284000@www.aphon-dev.tecture.net
SUMMARY:APHON Chemotherapy and Biotherapy Spring Virtual Instructor Course
DESCRIPTION:APHON Chemotherapy and Biotherapy Virtual Instructor Course March 6\, 2024\, 10:30 AM-6:00 PM ET Virtually via Zoom Primary Contact: Carlise Myers\, APHON Education Manager\, carlise.myers@aphon.org Link to Registration:  TBA Fees  $685
URL:https://www.aphon-dev.tecture.net/event/aphon-chemotherapy-and-biotherapy-spring-virtual-instructor-course/
LOCATION:APHON Virtual Course
CATEGORIES:APHON and Chapter Events,Chemotherapy/Biotherapy Provider Courses
ORGANIZER;CN="Carlise Myers":MAILTO:carlise.myers@aphon.org
END:VEVENT
BEGIN:VEVENT
DTSTART;TZID=America/Chicago:20250129T080000
DTEND;TZID=America/Chicago:20250130T170000
DTSTAMP:20260425T182713
CREATED:20240918T182952Z
LAST-MODIFIED:20240918T183144Z
UID:2000202566-1738137600-1738256400@www.aphon-dev.tecture.net
SUMMARY:UCLA Health-Mattel Children's Hospital Chemotherapy/Biotherapy Course
DESCRIPTION:This is an in-person course open to the public. Requirement: Before enrollment in this public course please contact Grace Sund for course details and information atgsund@mednet.ucla.edu for more information. Employees: $0    Non-Employees: $250
URL:https://www.aphon-dev.tecture.net/event/ucla-health-mattel-childrens-hospital-chemotherapy-biotherapy-course/
LOCATION:UCLA Health- Mattel Children’s Hospital\, 936 Westwood Blvd\, Los Angeles\, CA\, 90024\, United States
CATEGORIES:Chemotherapy/Biotherapy Provider Courses
ORGANIZER;CN="Grace Sund":MAILTO:gsund@mednet.ucla.edu
END:VEVENT
BEGIN:VEVENT
DTSTART;TZID=America/New_York:20250109T071500
DTEND;TZID=America/New_York:20250110T170000
DTSTAMP:20260425T182713
CREATED:20241030T172117Z
LAST-MODIFIED:20241030T172340Z
UID:2000216492-1736406900-1736528400@www.aphon-dev.tecture.net
SUMMARY:Boston Children's Hospital - Chemotherapy-Biotherapy Provider Course
DESCRIPTION:Boston Children’s Hospital – Boston\, MA\nThis is an in-person course open to the public. \nRequirement: Before enrollment in this public course please contact Kelli Sheehan for course details and information at info@stathealthcaretrainers.com for more information. \nEmployees: $75    Non-Employees: $185 \n\n\n \nOnly those registered with APHON can enroll in a course.\n\nIf you are registered\, please log in.  If not\, you can register here.
URL:https://www.aphon-dev.tecture.net/event/boston-childrens-hospital-chemotherapy-biotherapy-provider-course-6/
LOCATION:Boston Children’s Hospital\, 300 Longwood Ave.\, Boston\, MA\, 02115\, United States
CATEGORIES:Chemotherapy/Biotherapy Provider Courses
ORGANIZER;CN="Kelli Sheehan":MAILTO:kelli.sheehan@childrens.harvard.edu
END:VEVENT
BEGIN:VEVENT
DTSTART;TZID=America/Chicago:20250108T100000
DTEND;TZID=America/Chicago:20250109T193000
DTSTAMP:20260425T182713
CREATED:20241023T182520Z
LAST-MODIFIED:20241023T182522Z
UID:2000215097-1736330400-1736451000@www.aphon-dev.tecture.net
SUMMARY:APHON Sponsored Virtual Chemotherapy-Biotherapy Provider Course January 8 and January 9\, 2025
DESCRIPTION:APHON-Sponsored Virtual Chemotherapy and Biotherapy Provider Course First Course Date: 01/08/2025\, 10:00 am-7:30 pm ET Second Course Date: 01/09/2025\, 10:00 am-7:30 pm ET Virtually via Zoom Primary Contact: APHON Education Team\, education@aphon.org Link: APHON-Sponsored Virtual Chemotherapy/Biotherapy Provider Course – January 8 and January 9\, 2025 – Association of Pediatric Hematology/Oncology Nurses  Fees: $175 for APHON Members | $250 for Non-members
URL:https://www.aphon-dev.tecture.net/event/aphon-sponsored-virtual-chemotherapy-biotherapy-provider-course-january-8-and-january-9-2025/
LOCATION:APHON Virtual Course
CATEGORIES:APHON and Chapter Events,Chemotherapy/Biotherapy Provider Courses
ORGANIZER;CN="APHON Education Team":MAILTO:education@aphon.org
END:VEVENT
BEGIN:VEVENT
DTSTART;TZID=America/Los_Angeles:20241216T080000
DTEND;TZID=America/Los_Angeles:20241217T170000
DTSTAMP:20260425T182713
CREATED:20241126T162525Z
LAST-MODIFIED:20241126T163540Z
UID:2000220495-1734336000-1734454800@www.aphon-dev.tecture.net
SUMMARY:Cure 4 The Kids Foundation - Chemotherapy-Biotherapy Provider Course
DESCRIPTION:Cure 4 The Kids Foundation – Las Vegas\, Nevada\nThis is an in-person course open to the public. \nRequirement: Before enrollment in this public course please contact Jessica Casey for course details and information at jessicawcasey@gmail.com for more information. \nEmployees: $0    Non-Employees: $250 \n\n\n \nOnly those registered with APHON can enroll in a course.\n\nIf you are registered\, please log in.  If not\, you can register here.
URL:https://www.aphon-dev.tecture.net/event/cure-4-the-kids-foundation-chemotherapy-biotherapy-provider-course-2/
LOCATION:Cure 4 the Kids\, 1 Breakthrough Way\, Las Vegas\, Nevada\, 89135\, United States
CATEGORIES:Chemotherapy/Biotherapy Provider Courses
ORGANIZER;CN="Jessica Casey":MAILTO:jessicawcasey@gmail.com
END:VEVENT
BEGIN:VEVENT
DTSTART;TZID=America/Los_Angeles:20241212T080000
DTEND;TZID=America/Los_Angeles:20241213T170000
DTSTAMP:20260425T182713
CREATED:20241030T164006Z
LAST-MODIFIED:20241030T164352Z
UID:2000216461-1733990400-1734109200@www.aphon-dev.tecture.net
SUMMARY:STAT Chemo Trainers - Chemotherapy-Biotherapy Provider Course
DESCRIPTION:STAT Chemo Trainers – California\nThis is a virtual course open to the public. \nRequirement: Before enrollment in this public course please contact Stephanie Darden for course details and information at info@stathealthcaretrainers.com for more information. \nEmployees: $497    Non-Employees: $497 \n\n\n \nOnly those registered with APHON can enroll in a course.\n\nIf you are registered\, please log in.  If not\, you can register here.
URL:https://www.aphon-dev.tecture.net/event/stat-chemo-trainers-chemotherapy-biotherapy-provider-course-12/
LOCATION:STAT Chemo Trainers-Virtual\, San Francisco\, CA\, United States
CATEGORIES:Chemotherapy/Biotherapy Provider Courses
ORGANIZER;CN="Stephanie Darden":MAILTO:info@stathealthcaretrainers.com
END:VEVENT
BEGIN:VEVENT
DTSTART;TZID=America/New_York:20241212T070000
DTEND;TZID=America/New_York:20241218T050000
DTSTAMP:20260425T182713
CREATED:20240924T210146Z
LAST-MODIFIED:20240924T210634Z
UID:2000203086-1733986800-1734498000@www.aphon-dev.tecture.net
SUMMARY:Montefiore Medical Center - Chemotherapy-Biotherapy Provider Course
DESCRIPTION:Montefiore Medical Center – Bronx/NY\nThis is an in-person course open to the public. \nRequirement: Before enrollment in this public course please contact Anne Marie Sterk for course details and information at asterk@montefiore.org for more information. \nEmployees: $0    Non-Employees: $250 \n\n\n \nOnly those registered with APHON can enroll in a course.\n\nIf you are registered\, please log in.  If not\, you can register here.
URL:https://www.aphon-dev.tecture.net/event/montefiore-medical-center-chemotherapy-biotherapy-provider-course/
LOCATION:Children’s Hospital at Montefiore Medical Center\, Bronx\, NY\, United States
CATEGORIES:Chemotherapy/Biotherapy Provider Courses
ORGANIZER;CN="Anne Marie Sterk":MAILTO:asterk@montefiore.org
END:VEVENT
BEGIN:VEVENT
DTSTART;TZID=America/New_York:20241209T080000
DTEND;TZID=America/New_York:20241210T163000
DTSTAMP:20260425T182713
CREATED:20241104T201515Z
LAST-MODIFIED:20241104T201723Z
UID:2000217895-1733731200-1733848200@www.aphon-dev.tecture.net
SUMMARY:Golisano Children's Hospital @URMC - Chemotherapy-Biotherapy Provider Course
DESCRIPTION:Golisano Children’s Hospital @URMC – Rochester\, NY\nThis is an in-person course open to the public. \nRequirement: Before enrollment in this public course please contact Amy Roth for course details and information at amy_roth@urmc.rochester.edu for more information. \nEmployees: $0    Non-Employees: $250 \n\n\n \nOnly those registered with APHON can enroll in a course.\n\nIf you are registered\, please log in.  If not\, you can register here.
URL:https://www.aphon-dev.tecture.net/event/golisano-childrens-hospital-urmc-chemotherapy-biotherapy-provider-course-2/
CATEGORIES:Chemotherapy/Biotherapy Provider Courses
END:VEVENT
BEGIN:VEVENT
DTSTART;TZID=America/Chicago:20241106T100000
DTEND;TZID=America/Chicago:20241113T193000
DTSTAMP:20260425T182714
CREATED:20240913T191538Z
LAST-MODIFIED:20240924T151448Z
UID:2000202113-1730887200-1731526200@www.aphon-dev.tecture.net
SUMMARY:APHON-Sponsored Chemotherapy- Biotherapy Provider Course November 6 and November 13\, 2024
DESCRIPTION:APHON-Sponsored Virtual Chemotherapy and Biotherapy Provider Course First Course Date: 11/06/2024\, 10:00 am-7:30 pm ET Second Course Date: 11/13/2024\, 10:00 am-7:30 pm ET Virtually via Zoom Primary Contact: APHON Education Team\, education@aphon.org Link: APHON-Sponsored Virtual Chemotherapy/Biotherapy Provider Course – November 6 and November 13\, 2024 – Association of Pediatric Hematology/Oncology Nurses Fees: $175 for APHON Members | $250 for Non-members
URL:https://www.aphon-dev.tecture.net/event/aphon-sponsored-chemotherapy-biotherapy-provider-course-november-6-and-november-13-2024/
LOCATION:APHON Virtual Course
CATEGORIES:APHON and Chapter Events,Chemotherapy/Biotherapy Provider Courses
ORGANIZER;CN="APHON Education Team":MAILTO:education@aphon.org
END:VEVENT
BEGIN:VEVENT
DTSTART;TZID=America/Chicago:20241106T083000
DTEND;TZID=America/Chicago:20241107T163000
DTSTAMP:20260425T182714
CREATED:20241004T210241Z
LAST-MODIFIED:20241004T210954Z
UID:2000212603-1730881800-1730997000@www.aphon-dev.tecture.net
SUMMARY:Ascension Sacred Heart - Chemotherapy-Biotherapy Provider Course
DESCRIPTION:Ascension Sacred Heart – Pensaocla\, FL\nThis is an in-person and virtual course open to the public. \nRequirement: Before enrollment in this public course please contact Kymberly Palmer for course details and information at kymberly.palmer@ascension.org for more information. \nEmployees: $0    Non-Employees: $250 \n\n\n \nOnly those registered with APHON can enroll in a course.\n\nIf you are registered\, please log in.  If not\, you can register here.
URL:https://www.aphon-dev.tecture.net/event/ascension-sacred-heart-chemotherapy-biotherapy-provider-course/
LOCATION:Ascension Sacred Heart\, 5151 N. 9th Ave\, Pensacola\, FL\, 32504\, United States
CATEGORIES:Chemotherapy/Biotherapy Provider Courses
ORGANIZER;CN="Kymberly Palmer":MAILTO:kymberly.palmer@ascension.org
END:VEVENT
BEGIN:VEVENT
DTSTART;TZID=America/Los_Angeles:20241104T080000
DTEND;TZID=America/Los_Angeles:20241105T170000
DTSTAMP:20260425T182714
CREATED:20240924T181007Z
LAST-MODIFIED:20240924T182620Z
UID:2000203037-1730707200-1730826000@www.aphon-dev.tecture.net
SUMMARY:Stanford Medicine Children's Health - Chemotherapy-Biotherapy Provider Course
DESCRIPTION:Stanford Medicine Children’s Health – Palo Alto\, CA\nThis is a virtual course open to the public. \nRequirement: Before enrollment in this public course please contact Sarah Tinawi  for course details and information at STinawi@stanfordchildrens.org.for more information. \nEmployees: $150    Non-Employees: $300 \n\n\n \nOnly those registered with APHON can enroll in a course.\n\nIf you are registered\, please log in.  If not\, you can register here.
URL:https://www.aphon-dev.tecture.net/event/stanford-medicine-childrens-health-chemotherapy-biotherapy-provider-course/
LOCATION:Stanford Children’s Health\, 730 Welch Rd\, Palo Alto\, CA\, 94304\, United States
CATEGORIES:Chemotherapy/Biotherapy Provider Courses
ORGANIZER;CN="Sarah Tinawi":MAILTO:STinawi@stanfordchildrens.org
END:VEVENT
BEGIN:VEVENT
DTSTART;TZID=America/New_York:20241031T073000
DTEND;TZID=America/New_York:20241107T150000
DTSTAMP:20260425T182714
CREATED:20240918T174158Z
LAST-MODIFIED:20240918T175603Z
UID:2000202554-1730359800-1730991600@www.aphon-dev.tecture.net
SUMMARY:Roswell Park Comprehensive Cancer Center - Chemotherapy-Biotherapy Provider Course
DESCRIPTION:Roswell Park Comprehensive Cancer Center – Buffalo NY\nThis is an in-person course open to the public. \nRequirement: Before enrollment in this public course please contact Kimberly Seabolt for course details and information at kimberly.seabolt@roswellpark.org.for more information. \nEmployees: $0    Non-Employees: $240 \n\n\n \nOnly those registered with APHON can enroll in a course.\n\nIf you are registered\, please log in.  If not\, you can register here.
URL:https://www.aphon-dev.tecture.net/event/roswell-park-comprehensive-cancer-center-chemotherapy-biotherapy-provider-course/
LOCATION:Roswell Park Comprehensive Cancer Center\, 665 Elm St.\, Buffalo\, NY\, United States
CATEGORIES:Chemotherapy/Biotherapy Provider Courses
ORGANIZER;CN="Kimberly Seabolt":MAILTO:Kimberly.Seabolt@RoswellPrark.org
END:VEVENT
BEGIN:VEVENT
DTSTART;TZID=America/New_York:20241024T080000
DTEND;TZID=America/New_York:20241025T170000
DTSTAMP:20260425T182714
CREATED:20240927T185448Z
LAST-MODIFIED:20241024T202729Z
UID:2000203567-1729756800-1729875600@www.aphon-dev.tecture.net
SUMMARY:Memorial Sloan Kettering - Chemotherapy-Biotherapy Provider Course
DESCRIPTION:Memorial Sloan Kettering – New York\nThis is a virtual course open to the public. \nRequirement: Before enrollment in this public course please contact Kerri Kramer for course details and information at kramerk2@mskcc.org for more information. \nEmployees: $0    Non-Employees: $375 \n\n\n \nOnly those registered with APHON can enroll in a course.\n\nIf you are registered\, please log in.  If not\, you can register here.
URL:https://www.aphon-dev.tecture.net/event/memorial-sloan-kettering-chemotherapy-biotherapy-provider-course-3/
LOCATION:Memorial Sloan Kettering-Virtual\, New York\, NY\, United States
CATEGORIES:Chemotherapy/Biotherapy Provider Courses
ORGANIZER;CN="Kerri Kramer":MAILTO:kramerk2@mskcc.org
END:VEVENT
BEGIN:VEVENT
DTSTART;TZID=America/Los_Angeles:20241017T090000
DTEND;TZID=America/Los_Angeles:20241018T165000
DTSTAMP:20260425T182714
CREATED:20240712T135905Z
LAST-MODIFIED:20240712T135905Z
UID:2000196668-1729155600-1729270200@www.aphon-dev.tecture.net
SUMMARY:ASAN MEDICAL CENTER - Chemotherapy-Biotherapy Provider Course
DESCRIPTION:ASAN MEDICAL CENTER – SEOUL\, SOUTH KOREA\n\n \nOnly those registered with APHON can enroll in a course.\n\nIf you are registered\, please log in.  If not\, you can register here.
URL:https://www.aphon-dev.tecture.net/event/asan-medical-center-chemotherapy-biotherapy-provider-course/
CATEGORIES:Chemotherapy/Biotherapy Provider Courses
END:VEVENT
BEGIN:VEVENT
DTSTART;TZID=America/Los_Angeles:20241017T080000
DTEND;TZID=America/Los_Angeles:20241018T170000
DTSTAMP:20260425T182714
CREATED:20240918T163913Z
LAST-MODIFIED:20240918T170523Z
UID:2000202533-1729152000-1729270800@www.aphon-dev.tecture.net
SUMMARY:Valley Children's Healthcare - Chemotherapy-Biotherapy Provider Course
DESCRIPTION:Valley Children’s Healthcare – Madera\, CA\n  \nThis is an in-person course open to the public. \n\nRequirement: Before enrollment in this public course please contact Rachel Hernandez for course details and information at rhernandez1@valleychildrens.org for more information. \nEmployees: $0      Non-Employees: $250 \n  \n\n\nOnly those registered with APHON can enroll in a course.\n\nIf you are registered\, please log in.  If not\, you can register here.
URL:https://www.aphon-dev.tecture.net/event/valley-childrens-healthcare-chemotherapy-biotherapy-provider-course/
LOCATION:Valley Children’s Hospital\, Madera\, CA\, United States
CATEGORIES:Chemotherapy/Biotherapy Provider Courses
ORGANIZER;CN="Rachel Hernandez":MAILTO:rhernandez1@valleychildrens.org
END:VEVENT
BEGIN:VEVENT
DTSTART;TZID=America/Los_Angeles:20241015T083000
DTEND;TZID=America/Los_Angeles:20241022T170000
DTSTAMP:20260425T182714
CREATED:20240408T172720Z
LAST-MODIFIED:20240821T154621Z
UID:2000184375-1728981000-1729616400@www.aphon-dev.tecture.net
SUMMARY:UC Davis Health - Chemotherapy-Biotherapy Provider Course
DESCRIPTION:UC Davis Health – Sacramento\, CA\nThis is an in-person course open to the public. \nRequirement: Before enrollment in this public course please contact Matthew Shelton for course details and information at mjshelton@ucdavis.edu. \nEmployees: $195    Non-Employees: $270 \n\n\n \nOnly those registered with APHON can enroll in a course.\n\nIf you are registered\, please log in.  If not\, you can register here.
URL:https://www.aphon-dev.tecture.net/event/uc-davis-health-chemotherapy-biotherapy-provider-course-2/
LOCATION:UC Davis Health- In Person\, Sacramento\, CA\, United States
CATEGORIES:Chemotherapy/Biotherapy Provider Courses
ORGANIZER;CN="Matthew Shelton":MAILTO:mjshelton@ucdavis.edu
END:VEVENT
BEGIN:VEVENT
DTSTART;TZID=America/New_York:20241009T073000
DTEND;TZID=America/New_York:20241010T163000
DTSTAMP:20260425T182714
CREATED:20240517T181636Z
LAST-MODIFIED:20240717T150225Z
UID:2000190073-1728459000-1728577800@www.aphon-dev.tecture.net
SUMMARY:Boston Children's Hospital - Chemotherapy-Biotherapy Provider Course
DESCRIPTION:Boston Children’s Hospital – Boston\, MA\n\n\nThis is program open to the public.\n\nRequirement: Prior to enrollment in this public course please contact Kelli Sheehan for course details and information at kelli.sheehan@childrens.harvard.edu\nfor more information.\n\nEmployees:$65.00    Non-Employees: $175.00\n\n\n\n\n\nOnly those registered with APHON can enroll in a course.\n\nIf you are registered\, please log in.  If not\, you can register here.
URL:https://www.aphon-dev.tecture.net/event/boston-childrens-hospital-chemotherapy-biotherapy-provider-course-5/
LOCATION:Boston Children’s Hospital\, 300 Longwood Ave.\, Boston\, MA\, 02115\, United States
CATEGORIES:Chemotherapy/Biotherapy Provider Courses
ORGANIZER;CN="Kelli Sheehan":MAILTO:kelli.sheehan@childrens.harvard.edu
END:VEVENT
BEGIN:VEVENT
DTSTART;TZID=America/Los_Angeles:20241001T073000
DTEND;TZID=America/Los_Angeles:20241002T170000
DTSTAMP:20260425T182714
CREATED:20240820T203418Z
LAST-MODIFIED:20240821T153855Z
UID:2000200140-1727767800-1727888400@www.aphon-dev.tecture.net
SUMMARY:Sacred Heart Children's Hospital - Chemotherapy-Biotherapy Provider Course
DESCRIPTION:Sacred Heart Children’s Hospital – Spokane/WA\nThis is an in-person course open to the public. \nRequirement: Before enrollment in this public course please contact Carolyn Hyslop for course details and information at carolyn.hyslop@providence.org.for more information. \nEmployees: $0    Non-Employees: $150 \n\n\n \nOnly those registered with APHON can enroll in a course.\n\nIf you are registered\, please log in.  If not\, you can register here.
URL:https://www.aphon-dev.tecture.net/event/sacred-heart-childrens-hospital-chemotherapy-biotherapy-provider-course/
LOCATION:Sacred Heart Children’s Hospital\, 101 W. 8th Ave.\, Spokane\, WA\, 99204\, United States
CATEGORIES:Chemotherapy/Biotherapy Provider Courses
ORGANIZER;CN="Carolyn Hyslop":MAILTO:carolyn.hyslop@providence.org
END:VEVENT
BEGIN:VEVENT
DTSTART;TZID=America/Chicago:20240919T110000
DTEND;TZID=America/Chicago:20240919T153000
DTSTAMP:20260425T182714
CREATED:20240805T191447Z
LAST-MODIFIED:20240805T192201Z
UID:2000198349-1726743600-1726759800@www.aphon-dev.tecture.net
SUMMARY:Pediatric Cancer Awareness Month\, Chili Cookoff and Silent Auction
DESCRIPTION:The Riley Hematology and Oncology Nurses are recognizing September as Childhood Cancer Awareness Month by having a Chili Cookoff and Silent Auction. Everyone is welcome to stop in for some chili\, bid on our silent auction items\, buy an ArtMix original\, ”Riley 1924”ornament\, and talk with our team.Proceeds from this event will be used to support the Association of Pediatric Hematology and Oncology Nursing (APHON)\, Indiana Chapter. IAPHON provides support and education to pediatric cancer nurses\, like me.The cookoff and silent auction will be held on September\, 19th 2024 from 11:30-3:30 in the Riley Outpatient Conference Center\, Rooms A and B.
URL:https://www.aphon-dev.tecture.net/event/pediatric-cancer-awareness-month-chili-cookoff-and-silent-auction-2/
LOCATION:Riley Outpatient Center\, 575 Riley Hospital Drive - Rooms A/B\, Indianapolis\, Indiana\, 46202\, United States
CATEGORIES:APHON and Chapter Events,Chapter Events
ATTACH;FMTTYPE=image/png:https://www.aphon-dev.tecture.net/wp-content/uploads/2024/08/vote_on_the_best_chili.png
ORGANIZER;CN="APHON Indiana Chapter":MAILTO:Kcopeland@iuhealth.org
END:VEVENT
END:VCALENDAR