BEGIN:VCALENDAR
VERSION:2.0
PRODID:-//Association of Pediatric Hematology/Oncology Nurses - ECPv6.6.4.2//NONSGML v1.0//EN
CALSCALE:GREGORIAN
METHOD:PUBLISH
X-WR-CALNAME:Association of Pediatric Hematology/Oncology Nurses
X-ORIGINAL-URL:https://www.aphon-dev.tecture.net
X-WR-CALDESC:Events for Association of Pediatric Hematology/Oncology Nurses
REFRESH-INTERVAL;VALUE=DURATION:PT1H
X-Robots-Tag:noindex
X-PUBLISHED-TTL:PT1H
BEGIN:VTIMEZONE
TZID:America/Los_Angeles
BEGIN:DAYLIGHT
TZOFFSETFROM:-0800
TZOFFSETTO:-0700
TZNAME:PDT
DTSTART:20240310T100000
END:DAYLIGHT
BEGIN:STANDARD
TZOFFSETFROM:-0700
TZOFFSETTO:-0800
TZNAME:PST
DTSTART:20241103T090000
END:STANDARD
TZID:America/Kentucky/Louisville
BEGIN:DAYLIGHT
TZOFFSETFROM:-0500
TZOFFSETTO:-0400
TZNAME:EDT
DTSTART:20240310T070000
END:DAYLIGHT
BEGIN:STANDARD
TZOFFSETFROM:-0400
TZOFFSETTO:-0500
TZNAME:EST
DTSTART:20241103T060000
END:STANDARD
TZID:Pacific/Honolulu
BEGIN:STANDARD
TZOFFSETFROM:-1000
TZOFFSETTO:-1000
TZNAME:HST
DTSTART:20240101T000000
END:STANDARD
TZID:America/New_York
BEGIN:DAYLIGHT
TZOFFSETFROM:-0500
TZOFFSETTO:-0400
TZNAME:EDT
DTSTART:20240310T070000
END:DAYLIGHT
BEGIN:STANDARD
TZOFFSETFROM:-0400
TZOFFSETTO:-0500
TZNAME:EST
DTSTART:20241103T060000
END:STANDARD
TZID:America/Chicago
BEGIN:DAYLIGHT
TZOFFSETFROM:-0600
TZOFFSETTO:-0500
TZNAME:CDT
DTSTART:20240310T080000
END:DAYLIGHT
BEGIN:STANDARD
TZOFFSETFROM:-0500
TZOFFSETTO:-0600
TZNAME:CST
DTSTART:20241103T070000
END:STANDARD
END:VTIMEZONE
BEGIN:VEVENT
DTSTART;TZID=America/Los_Angeles:20240828T080000
DTEND;TZID=America/Los_Angeles:20240829T170000
DTSTAMP:20260425T210752
CREATED:20240701T211446Z
LAST-MODIFIED:20240701T212918Z
UID:2000195997-1724832000-1724950800@www.aphon-dev.tecture.net
SUMMARY:STAT Chemo Trainers - Chemotherapy-Biotherapy Provider Course
DESCRIPTION:STAT Chemo Trainers – California\nThis is a virtual program open to the public. \nRequirement: Prior to enrollment in this public course please contact Stephanie Darden for course details and information at info@stathealthcaretrainers.com for more information. \nCost: $449.00 \n\n\n\nOnly those registered with APHON can enroll in a course.\n\nIf you are registered\, please log in.  If not\, you can register here.
URL:https://www.aphon-dev.tecture.net/event/stat-chemo-trainers-chemotherapy-biotherapy-provider-course-11/
CATEGORIES:Chemotherapy/Biotherapy Provider Courses
END:VEVENT
BEGIN:VEVENT
DTSTART;TZID=America/Kentucky/Louisville:20240817T083000
DTEND;TZID=America/Kentucky/Louisville:20240817T153000
DTSTAMP:20260425T210752
CREATED:20240730T173101Z
LAST-MODIFIED:20240730T173116Z
UID:2000197740-1723883400-1723908600@www.aphon-dev.tecture.net
SUMMARY:Louisville 2024 Symposium
DESCRIPTION:The APHON Louisville Chapter is hosting its 19th Annual Education Symposium.
URL:https://www.aphon-dev.tecture.net/event/louisville-2024-symposium/
LOCATION:Norton Learning Center\, 9500 Ormsey Station Rd\, Suite 200\, Louisville\, Kentucky\, 40223\, United States
CATEGORIES:APHON and Chapter Events,Chapter Events
END:VEVENT
BEGIN:VEVENT
DTSTART;TZID=Pacific/Honolulu:20240801T070000
DTEND;TZID=Pacific/Honolulu:20240808T150000
DTSTAMP:20260425T210752
CREATED:20240710T230438Z
LAST-MODIFIED:20240710T231836Z
UID:2000196552-1722495600-1723129200@www.aphon-dev.tecture.net
SUMMARY:Kapiolani Medical Center for Women & Children - Chemotherapy-Biotherapy Provider Course
DESCRIPTION:Kapiolani Medical Center for Women & Children – Honolulu\, HI\n\n\n \nOnly those registered with APHON can enroll in a course.\n\nIf you are registered\, please log in.  If not\, you can register here.
URL:https://www.aphon-dev.tecture.net/event/kapiolani-medical-center-for-women-children-chemotherapy-biotherapy-provider-course/
CATEGORIES:Chemotherapy/Biotherapy Provider Courses
ORGANIZER;CN="Lori Kaneshige":MAILTO:lori.kaneshige@kapiolani.org
END:VEVENT
BEGIN:VEVENT
DTSTART;TZID=America/Los_Angeles:20240729T080000
DTEND;TZID=America/Los_Angeles:20240730T170000
DTSTAMP:20260425T210752
CREATED:20240701T205319Z
LAST-MODIFIED:20240701T205507Z
UID:2000195989-1722240000-1722358800@www.aphon-dev.tecture.net
SUMMARY:STAT Chemo Trainers - Chemotherapy-Biotherapy Provider Course
DESCRIPTION:STAT Chemo Trainers – California\nThis is a virtual program open to the public. \nRequirement: Prior to enrollment in this public course please contact Stephanie Darden for course details and information at info@stathealthcaretrainers.com for more information. \nCost: $449.00 \n\n\n \nOnly those registered with APHON can enroll in a course.\n\nIf you are registered\, please log in.  If not\, you can register here.
URL:https://www.aphon-dev.tecture.net/event/stat-chemo-trainers-chemotherapy-biotherapy-provider-course-10/
CATEGORIES:Chemotherapy/Biotherapy Provider Courses
END:VEVENT
BEGIN:VEVENT
DTSTART;TZID=America/New_York:20240725T080000
DTEND;TZID=America/New_York:20240726T170000
DTSTAMP:20260425T210752
CREATED:20240613T182813Z
LAST-MODIFIED:20240613T183844Z
UID:2000194820-1721894400-1722013200@www.aphon-dev.tecture.net
SUMMARY:Memorial Sloan Kettering - Chemotherapy-Biotherapy Provider Course
DESCRIPTION:Memorial Sloan Kettering – New York\n\n\n \nOnly those registered with APHON can enroll in a course.\n\nIf you are registered\, please log in.  If not\, you can register here.
URL:https://www.aphon-dev.tecture.net/event/memorial-sloan-kettering-chemotherapy-biotherapy-provider-course-2/
CATEGORIES:Chemotherapy/Biotherapy Provider Courses
ATTACH;FMTTYPE=image/jpeg:https://www.aphon-dev.tecture.net/wp-content/uploads/2023/07/Memorial-Sloan-Kettering-Logo.jpg
ORGANIZER;CN="Kerri Kramer":MAILTO:kramerk2@mskcc.org
END:VEVENT
BEGIN:VEVENT
DTSTART;TZID=America/New_York:20240709T100000
DTEND;TZID=America/New_York:20240710T193000
DTSTAMP:20260425T210752
CREATED:20240530T230539Z
LAST-MODIFIED:20240913T161308Z
UID:2000190954-1720519200-1720639800@www.aphon-dev.tecture.net
SUMMARY:APHON-Sponsored Chemotherapy-Biotherapy Virtual Provider Course July 9 and July 10\, 2024
DESCRIPTION:APHON-Sponsored Virtual Chemotherapy and Biotherapy Provider Course\n\nFirst Course Date: 07/09/2024\, 10:00 am-7:30 pm ET\n\nSecond Course Date: 07/10/2024\, 10:00 am-7:30 pm ET\n\nVirtually via Zoom\n\nPrimary Contact: APHON Education Team\, education@aphon.org\n\nLink: APHON-Sponsored Virtual Chemotherapy/Biotherapy Provider Course – July 9 and July 10\, 2024 – Association of Pediatric Hematology/Oncology Nurses \n\nFees\n\n$175 for APHON Members | $250 for Non-members
URL:https://www.aphon-dev.tecture.net/event/aphon-sponsored-chemotherapy-biotherapy-virtual-provider-course-july-9-and-july-10-2024/
LOCATION:APHON Virtual Course
CATEGORIES:Chemotherapy/Biotherapy Provider Courses
ORGANIZER;CN="APHON Education Team":MAILTO:education@aphon.org
END:VEVENT
BEGIN:VEVENT
DTSTART;TZID=America/Los_Angeles:20240624T080000
DTEND;TZID=America/Los_Angeles:20240625T170000
DTSTAMP:20260425T210752
CREATED:20240326T173125Z
LAST-MODIFIED:20240624T143749Z
UID:2000182804-1719216000-1719334800@www.aphon-dev.tecture.net
SUMMARY:UCLA Health/Mattel Children's Hospital - Chemotherapy-Biotherapy Provider Course
DESCRIPTION:UCLA Health/Mattel Children’s Hospital – Los Angeles\n\n\n \nOnly those registered with APHON can enroll in a course.\n\nIf you are registered\, please log in.  If not\, you can register here.
URL:https://www.aphon-dev.tecture.net/event/ucla-health-mattel-childrens-hospital-chemotherapy-biotherapy-provider-course-2/
CATEGORIES:Chemotherapy/Biotherapy Provider Courses
END:VEVENT
BEGIN:VEVENT
DTSTART;TZID=America/Chicago:20240619T080000
DTEND;TZID=America/Chicago:20240620T080000
DTSTAMP:20260425T210752
CREATED:20240417T141146Z
LAST-MODIFIED:20240417T143508Z
UID:2000185101-1718784000-1718870400@www.aphon-dev.tecture.net
SUMMARY:Northwestern Medicine Central DuPage Hospital - Chemotherapy-Biotherapy Provider Course
DESCRIPTION:Northwestern Medicine Central DuPage Hospital – Winfield\nThis course is open to the public. Contact Katherine Trimble at kathy.trimble@nm.org. \n\n \n\nOnly those registered with APHON can enroll in a course.\n\nIf you are registered\, please log in.  If not\, you can register here.
URL:https://www.aphon-dev.tecture.net/event/northwestern-medicine-central-dupage-hospital-chemotherapy-biotherapy-provider-course/
LOCATION:Northwestern Medicine Central DuPage Hospital\, Winfield\, IL\, United States
CATEGORIES:Chemotherapy/Biotherapy Provider Courses
ORGANIZER;CN="Katherine Trimble":MAILTO:kathy.trimble@nm.org
END:VEVENT
BEGIN:VEVENT
DTSTART;TZID=America/New_York:20240613T073000
DTEND;TZID=America/New_York:20240614T163000
DTSTAMP:20260425T210752
CREATED:20240517T174543Z
LAST-MODIFIED:20240717T172117Z
UID:2000190065-1718263800-1718382600@www.aphon-dev.tecture.net
SUMMARY:Boston Children's Hospital - Chemotherapy-Biotherapy Provider Course
DESCRIPTION:Boston Children’s Hospital – Boston\n\n\nThis is program open to the public.\n\nRequirement: Prior to enrollment in this public course please contact Kelli Sheehan for course details and information at kelli.sheehan@childrens.harvard.edu\nfor more information.\n\nEmployees:$65.00    Non-Employees: $175.00\n\n\n\n\n\nOnly those registered with APHON can enroll in a course.\n\nIf you are registered\, please log in.  If not\, you can register here.
URL:https://www.aphon-dev.tecture.net/event/boston-childrens-hospital-chemotherapy-biotherapy-provider-course-4/
LOCATION:Boston Children’s Hospital\, 300 Longwood Ave.\, Boston\, MA\, 02115\, United States
CATEGORIES:Chemotherapy/Biotherapy Provider Courses
ORGANIZER;CN="Kelli Sheehan":MAILTO:kelli.sheehan@childrens.harvard.edu
END:VEVENT
BEGIN:VEVENT
DTSTART;TZID=America/Los_Angeles:20240610T083000
DTEND;TZID=America/Los_Angeles:20240611T083000
DTSTAMP:20260425T210752
CREATED:20240327T235630Z
LAST-MODIFIED:20240411T204834Z
UID:2000183069-1718008200-1718094600@www.aphon-dev.tecture.net
SUMMARY:Valley Children's Hospital - Chemotherapy-Biotherapy Provider Course
DESCRIPTION:Valley Children’s Hospital – Madera\, CA\nThis course is open to the public. \nContact Rachel Albertson at ralbertson@valleychildrens.org for more information. \n\n \n\nOnly those registered with APHON can enroll in a course.\n\nIf you are registered\, please log in.  If not\, you can register here.
URL:https://www.aphon-dev.tecture.net/event/valley-childrens-hospital-chemotherapy-biotherapy-provider-course/
LOCATION:Valley Children’s Hospital\, Madera\, CA\, United States
CATEGORIES:Chemotherapy/Biotherapy Provider Courses
END:VEVENT
BEGIN:VEVENT
DTSTART;TZID=America/New_York:20240610T070000
DTEND;TZID=America/New_York:20240612T150000
DTSTAMP:20260425T210752
CREATED:20240417T154552Z
LAST-MODIFIED:20240417T160629Z
UID:2000185116-1718002800-1718204400@www.aphon-dev.tecture.net
SUMMARY:Inova Children's Hospital - Chemotherapy-Biotherapy Provider Course
DESCRIPTION:Inova Children’s Hospital – Falls Church\, VA\nThis course is open to the public. Contact Laurie Douthwaite at (571) 351-7659. \n\n \n\nOnly those registered with APHON can enroll in a course.\n\nIf you are registered\, please log in.  If not\, you can register here.
URL:https://www.aphon-dev.tecture.net/event/inova-childrens-hospital-chemotherapy-biotherapy-provider-course/
LOCATION:Inova Children’s Hospital\, Falls Church\, VA\, United States
CATEGORIES:Chemotherapy/Biotherapy Provider Courses
END:VEVENT
BEGIN:VEVENT
DTSTART;TZID=America/Los_Angeles:20240520T080000
DTEND;TZID=America/Los_Angeles:20240521T080000
DTSTAMP:20260425T210752
CREATED:20240326T173531Z
LAST-MODIFIED:20240429T164110Z
UID:2000182812-1716192000-1716278400@www.aphon-dev.tecture.net
SUMMARY:STAT Chemo Trainers - Chemotherapy-Biotherapy Provider Course
DESCRIPTION:STAT Chemo Trainers – San Francisco/CA\nThis is a virtual program open to the public. \nRequirement: Prior to enrollment in this public course please contact Stephanie Darden for course details and information at info@stathealthcaretrainers.com for more information. \n  \n\n \n\nOnly those registered with APHON can enroll in a course.\n\nIf you are registered\, please log in.  If not\, you can register here.
URL:https://www.aphon-dev.tecture.net/event/stat-chemo-trainers-chemotherapy-biotherapy-provider-course-8/
LOCATION:STAT Chemo Trainers-Virtual\, San Francisco\, CA\, United States
CATEGORIES:Chemotherapy/Biotherapy Provider Courses
END:VEVENT
BEGIN:VEVENT
DTSTART;TZID=America/New_York:20240516T103000
DTEND;TZID=America/New_York:20240516T180000
DTSTAMP:20260425T210752
CREATED:20240216T223135Z
LAST-MODIFIED:20240403T155118Z
UID:2000178512-1715855400-1715882400@www.aphon-dev.tecture.net
SUMMARY:APHON Chemotherapy and Biotherapy Virtual Instructor Course
DESCRIPTION:APHON Chemotherapy and Biotherapy Virtual Instructor Course \nMay 16\, 2024 10:30 AM-6:00 PM ET \nVirtually via Zoom \nPrimary Contact: Carlise Myers\, APHON Education Manager\, carlise.myers@aphon.org \nLink to Registration: Spring 2024 Virtual Chemotherapy-Biotherapy Instructor Course  \nFees  \n$685
URL:https://www.aphon-dev.tecture.net/event/aphon-chemotherapy-and-biotherapy-virtual-instructor-course/
LOCATION:APHON Virtual Course
CATEGORIES:Chemotherapy/Biotherapy Provider Courses
ORGANIZER;CN="APHON Education Team":MAILTO:education@aphon.org
END:VEVENT
BEGIN:VEVENT
DTSTART;TZID=America/Los_Angeles:20240514T080000
DTEND;TZID=America/Los_Angeles:20240515T080000
DTSTAMP:20260425T210752
CREATED:20240329T225006Z
LAST-MODIFIED:20240403T153452Z
UID:2000183432-1715673600-1715760000@www.aphon-dev.tecture.net
SUMMARY:Lucile Packard Children's Hospital at Stanford - Chemotherapy-Biotherapy Provider Course
DESCRIPTION:Lucile Packard Children’s Hospital at Stanford – PALO ALTO\, California\n\n \nOnly those registered with APHON can enroll in a course.\n\nIf you are registered\, please log in.  If not\, you can register here.
URL:https://www.aphon-dev.tecture.net/event/lucile-packard-childrens-hospital-at-stanford-chemotherapy-biotherapy-provider-course/
CATEGORIES:Chemotherapy/Biotherapy Provider Courses
END:VEVENT
BEGIN:VEVENT
DTSTART;TZID=America/Los_Angeles:20240429T080000
DTEND;TZID=America/Los_Angeles:20240430T080000
DTSTAMP:20260425T210752
CREATED:20240326T213853Z
LAST-MODIFIED:20240425T212821Z
UID:2000182865-1714377600-1714464000@www.aphon-dev.tecture.net
SUMMARY:STAT Chemo Trainers - Chemotherapy-Biotherapy Provider Course
DESCRIPTION:STAT Chemo Trainers – San Francisco/CA\nThis is a virtual program open to the public. \nRequirement: Prior to enrollment in this public course please contact Stephanie Darden for course details and information at info@stathealthcaretrainers.com for more information. \nCost: $597.00 \n\n \n\nOnly those registered with APHON can enroll in a course.\n\nIf you are registered\, please log in.  If not\, you can register here.
URL:https://www.aphon-dev.tecture.net/event/stat-chemo-trainers-chemotherapy-biotherapy-provider-course-9/
CATEGORIES:Chemotherapy/Biotherapy Provider Courses
END:VEVENT
BEGIN:VEVENT
DTSTART;TZID=America/New_York:20240425T080000
DTEND;TZID=America/New_York:20240426T170000
DTSTAMP:20260425T210752
CREATED:20240402T203032Z
LAST-MODIFIED:20240411T150430Z
UID:2000183816-1714032000-1714150800@www.aphon-dev.tecture.net
SUMMARY:Memorial Sloan Kettering - Chemotherapy-Biotherapy Provider Course
DESCRIPTION:Memorial Sloan Kettering – New York- Virtual\nThis course is open to the public. \nContact Kerri Kramer at kramerk2@mskcc.org for more information. \n\n \n\nOnly those registered with APHON can enroll in a course.\n\nIf you are registered\, please log in.  If not\, you can register here.
URL:https://www.aphon-dev.tecture.net/event/memorial-sloan-kettering-chemotherapy-biotherapy-provider-course/
LOCATION:Memorial Sloan Kettering-Virtual\, New York\, NY\, United States
CATEGORIES:Chemotherapy/Biotherapy Provider Courses
END:VEVENT
BEGIN:VEVENT
DTSTART;TZID=America/New_York:20240418T073000
DTEND;TZID=America/New_York:20240419T170000
DTSTAMP:20260425T210752
CREATED:20240223T195540Z
LAST-MODIFIED:20240403T145856Z
UID:2000179492-1713425400-1713546000@www.aphon-dev.tecture.net
SUMMARY:Beacon Children's Hospital Provider Course
DESCRIPTION:Course Details\n\nBeacon Children’s Hospital\n\nFirst Course Date: 04/18/2024\, 7:30 am-5:00 pm ET\n\nSecond Course Date: 04/19/2024\, 7:30 am-5:00 pm ET\n\nIn-Person\, South Bend\, IN\n\nPrimary Contact: Carrie Cimildoro-Beem\, ccimildorobeem@beaconhealthsystem.org\n\nFees\n\n$0 Employees | $0 for Non-Employees
URL:https://www.aphon-dev.tecture.net/event/beacon-childrens-hospital-provider-course/
LOCATION:Beacon Children’s Hospital\, 615 N. Michigan St.\, South Bend\, IN\, 46601\, United States
CATEGORIES:Chemotherapy/Biotherapy Provider Courses
ORGANIZER;CN="Carrie Cimildoro-Beem":MAILTO:ccimildorobeem@beaconhealthsystem.org
END:VEVENT
BEGIN:VEVENT
DTSTART;TZID=America/Los_Angeles:20240416T163000
DTEND;TZID=America/Los_Angeles:20240423T163000
DTSTAMP:20260425T210752
CREATED:20240401T172122Z
LAST-MODIFIED:20240410T214548Z
UID:2000183656-1713285000-1713889800@www.aphon-dev.tecture.net
SUMMARY:UC Davis Health - Chemotherapy-Biotherapy Provider Course
DESCRIPTION:UC Davis Health – Sacramento\, CA\nThis Course is open to the public. \nContact Matthew Shelton at mjshelton@ucdavis.edu for more information. \n\n \n\nOnly those registered with APHON can enroll in a course.\n\nIf you are registered\, please log in.  If not\, you can register here.
URL:https://www.aphon-dev.tecture.net/event/uc-davis-health-chemotherapy-biotherapy-provider-course/
LOCATION:UC Davis Health- In Person\, Sacramento\, CA\, United States
CATEGORIES:Chemotherapy/Biotherapy Provider Courses
ORGANIZER;CN="Matthew Shelton":MAILTO:mjshelton@ucdavis.edu
END:VEVENT
BEGIN:VEVENT
DTSTART;TZID=America/New_York:20240411T073000
DTEND;TZID=America/New_York:20240412T163000
DTSTAMP:20260425T210752
CREATED:20240110T173350Z
LAST-MODIFIED:20240403T141635Z
UID:2000176085-1712820600-1712939400@www.aphon-dev.tecture.net
SUMMARY:Boston Children's Hospital Chemotherapy-Biotherapy Provider Course
DESCRIPTION:Contact Kelli Sheehan at kelli.sheehan@childrens.harvard.edu for more information.\n\nBoston Children’s Hospital\n\nFirst Course Date: 04/11/2024\n\nSecond Course Date: 04/12/2024\n\nFees: $65 Employees | $175 Non-Employees
URL:https://www.aphon-dev.tecture.net/event/boston-childrens-hospital-chemotherapy-biotherapy-provider-course-2/
LOCATION:Boston Children’s Hospital\, 300 Longwood Ave.\, Boston\, MA\, 02115\, United States
CATEGORIES:Chemotherapy/Biotherapy Provider Courses
ORGANIZER;CN="Kelli Sheehan":MAILTO:kelli.sheehan@childrens.harvard.edu
END:VEVENT
BEGIN:VEVENT
DTSTART;TZID=America/New_York:20240411T073000
DTEND;TZID=America/New_York:20240412T073000
DTSTAMP:20260425T210752
CREATED:20240329T202245Z
LAST-MODIFIED:20240403T144334Z
UID:2000183385-1712820600-1712907000@www.aphon-dev.tecture.net
SUMMARY:Boston Children’s Hospital - Chemotherapy-Biotherapy Provider Course
DESCRIPTION:Boston Children’s Hospital – Boston\, MA\n\n \nOnly those registered with APHON can enroll in a course.\n\nIf you are registered\, please log in.  If not\, you can register here.
URL:https://www.aphon-dev.tecture.net/event/boston-childrens-hospital-chemotherapy-biotherapy-provider-course-3/
CATEGORIES:Chemotherapy/Biotherapy Provider Courses
END:VEVENT
BEGIN:VEVENT
DTSTART;TZID=America/New_York:20240404T070000
DTEND;TZID=America/New_York:20240411T150000
DTSTAMP:20260425T210752
CREATED:20240219T182234Z
LAST-MODIFIED:20240403T141025Z
UID:2000178975-1712214000-1712847600@www.aphon-dev.tecture.net
SUMMARY:Roswell Park Comprehensive Cancer Center Provider Course
DESCRIPTION:Course Details\n\nRoswell Park Comprehensive Cancer Center\n\nFirst Course Date: 04/04/2024\, 7:00 am-3:00 pm ET\n\nSecond Course Date: 04/11/2024\, 7:00 am-3:00 pm ET\n\nIn-Person\, Buffalo\, NY\n\nPrimary Contact: Kimberly Seabolt\, kimberly.seabolt@roswellpark.org \n\nFees\n\n$0 Employees | $240 for Non-Employees
URL:https://www.aphon-dev.tecture.net/event/2000178975/
LOCATION:Roswell Park Comprehensive Cancer Center\, 665 Elm St.\, Buffalo\, NY\, United States
CATEGORIES:Chemotherapy/Biotherapy Provider Courses
ORGANIZER;CN="Kimberly Seabolt":MAILTO:Kimberly.Seabolt@RoswellPrark.org
END:VEVENT
BEGIN:VEVENT
DTSTART;TZID=America/New_York:20240401T100000
DTEND;TZID=America/New_York:20240402T193000
DTSTAMP:20260425T210752
CREATED:20240208T225830Z
LAST-MODIFIED:20240327T180641Z
UID:2000177985-1711965600-1712086200@www.aphon-dev.tecture.net
SUMMARY:APHON-Sponsored Virtual Chemotherapy/Biotherapy Provider Course
DESCRIPTION:APHON-Sponsored Virtual Chemotherapy and Biotherapy Provider Course \nFirst Course Date: 04/01/2024\, 10:00 am-7:30 pm ET \nSecond Course Date: 04/02/2024\, 10:00 am-7:30 pm ET \nVirtually via Zoom \nPrimary Contact: APHON Education Team\, education@aphon.org \nLink to Registration: https://www.aphon.org/product/aphon-sponsored-virtual-chemotherapy-biotherapy-provider-course-april-1-and-april-2-2024/ \nFees \n$175 for APHON Members | $250 for Non-members
URL:https://www.aphon-dev.tecture.net/event/aphon-sponsored-virtual-chemotherapy-biotherapy-provider-course-3/
LOCATION:APHON Virtual Course
CATEGORIES:Chemotherapy/Biotherapy Provider Courses
ORGANIZER;CN="APHON Education Team":MAILTO:education@aphon.org
END:VEVENT
BEGIN:VEVENT
DTSTART;TZID=America/Chicago:20240321T073000
DTEND;TZID=America/Chicago:20240322T193000
DTSTAMP:20260425T210752
CREATED:20240215T194103Z
LAST-MODIFIED:20240215T194103Z
UID:2000178818-1711006200-1711135800@www.aphon-dev.tecture.net
SUMMARY:Jim Pattison Children’s Hospital Chemotherapy-Biotherapy Provider Course
DESCRIPTION:Contact Sarah Fox-Smith at sarah@sarahelizabethcoaching.com for more information. \nJim Pattison Children’s Hospital \nVirtual Course \nFirst Course Date: 03/21/2024 \nSecond Course Date: 03/22/2024 \nFees: $0 Employees | $225 Non-Employees
URL:https://www.aphon-dev.tecture.net/event/jim-pattison-childrens-hospital-chemotherapy-biotherapy-provider-course/
LOCATION:Jim Pattison Children’s Hospital\, 103 Hospital Dr.\, Saskatoon\, Saskatchewan\, S7N 0W8\, Canada
CATEGORIES:Chemotherapy/Biotherapy Provider Courses
ORGANIZER;CN="Sarah Fox-Smith":MAILTO:sarah@sarahelizabethcoaching.com
END:VEVENT
BEGIN:VEVENT
DTSTART;TZID=America/New_York:20240320T080000
DTEND;TZID=America/New_York:20240322T170000
DTSTAMP:20260425T210752
CREATED:20240123T134456Z
LAST-MODIFIED:20240123T134758Z
UID:2000176855-1710921600-1711126800@www.aphon-dev.tecture.net
SUMMARY:8th Annual Innovations in Pediatric Hematology/Oncology Conference
DESCRIPTION:Save the Date!\n8th Annual Innovations in Pediatric Hematology/Oncology Conference \n  \nLearning Services at Children’s Healthcare of Atlanta and the conference planning committee have decided to host this conference as an in-person event with an optional Certified Pediatric Hematology/Oncology Nurse (CPHON) exam prep course. Registration is now open! Deadline date to register will be March 10\, 2024 \nRegister Here: https://cvent.me/0xqBq1 \nCourse Description:\nThe purpose of this conference is to discuss advances in the care of patients with pediatric hematology/oncology diagnoses\, advancement in treatments and survivorship. \nEvent Details:\nCertified Pediatric Hematology/Oncology (CPHON) exam prep course (optional with separate registration) Wednesday\, March 20\, 2024 \nConference:\nThursday\, March 21\, 2024 – 8:00 a.m. – 4:30 p.m.\n(Optional reception 4:45 p.m.- 6:00 p.m.)\nFriday\, March 22\, 2024 – 8:00 a.m. – 3:00 p.m. \nLocation:\nGeorgia Tech Hotel & Conference Center\n800 Spring St NW\,\nAtlanta\, GA 30308
URL:https://www.aphon-dev.tecture.net/event/2000176855/
LOCATION:Georgia Tech Hotel & Conference Center\, 800 Spring Street NW\, Atlanta\, GA\, 30308\, United States
CATEGORIES:Industry Events
END:VEVENT
BEGIN:VEVENT
DTSTART;TZID=America/Chicago:20240319T073000
DTEND;TZID=America/Chicago:20240320T170000
DTSTAMP:20260425T210752
CREATED:20240205T230119Z
LAST-MODIFIED:20240205T230119Z
UID:2000177822-1710833400-1710954000@www.aphon-dev.tecture.net
SUMMARY:Cook Children's Medical Center Chemotherapy-Biotherapy Provider Course
DESCRIPTION:Contact Sarah Smith at sarah.smith2@cookchildrens.org for more information. \nCook Children’s Medical Center \nFirst Course Date: 03/19/2024 \nSecond Course Date: 03/20/2024 \nFees: $95 Employees | $225 Non-Employees \nIn Person and Virtual
URL:https://www.aphon-dev.tecture.net/event/cook-childrens-medical-center-chemotherapy-biotherapy-provider-course-2/
LOCATION:Cook Children’s Medical Center\, Fort Worth\, TX\, United States
CATEGORIES:Chemotherapy/Biotherapy Provider Courses
ORGANIZER;CN="Sarah Smith":MAILTO:sarah.smith2@cookchildrens.org
END:VEVENT
BEGIN:VEVENT
DTSTART;TZID=America/Chicago:20240312T083000
DTEND;TZID=America/Chicago:20240313T163000
DTSTAMP:20260425T210752
CREATED:20240110T180319Z
LAST-MODIFIED:20240110T180319Z
UID:2000176088-1710232200-1710347400@www.aphon-dev.tecture.net
SUMMARY:Studer Family Children's Hospital Chemotherapy/Biotherapy Provider Course
DESCRIPTION:Contact Kymberly Palmer at kymberly.palmer@ascension.org for more information. \nStuder Family Children’s Hospital \nFirst Course Date: 03/12/2024 \nSecond Course Date: 03/13/2024 \nFees: $0 Employees | $250 Non-Employees
URL:https://www.aphon-dev.tecture.net/event/studer-family-childrens-hospital-chemotherapy-biotherapy-provider-course/
LOCATION:Studer Family Children’s Hospital\, Pensacola\, FL\, United States
CATEGORIES:Chemotherapy/Biotherapy Provider Courses
ORGANIZER;CN="Kymberly Palmer":MAILTO:kymberly.palmer@ascension.org
END:VEVENT
BEGIN:VEVENT
DTSTART;TZID=America/Los_Angeles:20240311T080000
DTEND;TZID=America/Los_Angeles:20240318T170000
DTSTAMP:20260425T210752
CREATED:20231214T174238Z
LAST-MODIFIED:20231214T174238Z
UID:2000174262-1710144000-1710781200@www.aphon-dev.tecture.net
SUMMARY:STAT Chemo Trainers Chemotherapy/Biotherapy Provider Course
DESCRIPTION:This is a virtual program. Contact Stephanie Darden info@stathealthcaretrainers.com \nfor more information. \nFirst Course Date: 03/11/2024 \nSecond Course Date: 03/18/2024
URL:https://www.aphon-dev.tecture.net/event/stat-chemo-trainers-chemotherapy-biotherapy-provider-course-7/
LOCATION:STAT Chemo Trainers-Virtual\, San Francisco\, CA\, United States
CATEGORIES:Chemotherapy/Biotherapy Provider Courses
ORGANIZER;CN="Stephanie Darden":MAILTO:info@stathealthcaretrainers.com
END:VEVENT
BEGIN:VEVENT
DTSTART;TZID=America/New_York:20240227T073000
DTEND;TZID=America/New_York:20240228T163000
DTSTAMP:20260425T210752
CREATED:20240111T172634Z
LAST-MODIFIED:20240111T172634Z
UID:2000176206-1709019000-1709137800@www.aphon-dev.tecture.net
SUMMARY:Nicklaus Children's Hospital
DESCRIPTION:Contact Kristen Mendez at Kristen.Mendez@nicklaushealth.org for more information. \nNicklaus Childrens Hospital \nFirst Course Date: 02/27/2024 \nSecond Course Date: 02/28/2024 \nFees: $0 Employees | $300 Non-Employees
URL:https://www.aphon-dev.tecture.net/event/nicklaus-childrens-hospital/
LOCATION:Nicklaus Children’s Hospital\, Miami\, FL\, United States
CATEGORIES:Chemotherapy/Biotherapy Provider Courses
ORGANIZER;CN="Kristen Mendez":MAILTO:kristen.mendez@nicklaushealth.org
END:VEVENT
BEGIN:VEVENT
DTSTART;TZID=America/New_York:20240208T073000
DTEND;TZID=America/New_York:20240209T163000
DTSTAMP:20260425T210752
CREATED:20231222T180440Z
LAST-MODIFIED:20231222T180440Z
UID:2000175134-1707377400-1707496200@www.aphon-dev.tecture.net
SUMMARY:Boston Children's Hospital Chemotherapy-Biotherapy Provider Course
DESCRIPTION:Contact Kelli Sheehan at kelli.sheehan@childrens.harvard.edu for more information. \nBoston Children’s Hospital \nFirst Course Date: 02/08/2024 \nSecond Course Date: 02/09/2024 \nFees: $50 Employees | $175 Non-Employees
URL:https://www.aphon-dev.tecture.net/event/boston-childrens-hospital-chemotherapy-biotherapy-provider-course/
LOCATION:Boston Children’s Hospital\, 300 Longwood Ave.\, Boston\, MA\, 02115\, United States
CATEGORIES:Chemotherapy/Biotherapy Provider Courses
ORGANIZER;CN="Kelli Sheehan":MAILTO:kelli.sheehan@childrens.harvard.edu
END:VEVENT
BEGIN:VEVENT
DTSTART;TZID=America/Los_Angeles:20240205T080000
DTEND;TZID=America/Los_Angeles:20240212T170000
DTSTAMP:20260425T210752
CREATED:20231214T165501Z
LAST-MODIFIED:20231214T165718Z
UID:2000174257-1707120000-1707757200@www.aphon-dev.tecture.net
SUMMARY:STAT Chemo Trainers Chemotherapy/Biotherapy Provider Course
DESCRIPTION:This is a virtual program. Contact Stephanie Darden info@stathealthcaretrainers.com \nfor more information. \nFirst Course Date: 02/05/2024 \nSecond Course Date: 02/12/2024
URL:https://www.aphon-dev.tecture.net/event/stat-chemo-trainers-chemotherapy-biotherapy-provider-course-6/
CATEGORIES:Chemotherapy/Biotherapy Provider Courses
ORGANIZER;CN="Stephanie Darden":MAILTO:info@stathealthcaretrainers.com
END:VEVENT
END:VCALENDAR